BEGIN:VCALENDAR
VERSION:2.0
PRODID:-//Amy Kallissa - ECPv6.15.20//NONSGML v1.0//EN
CALSCALE:GREGORIAN
METHOD:PUBLISH
X-WR-CALNAME:Amy Kallissa
X-ORIGINAL-URL:https://amykallissa.com
X-WR-CALDESC:Events for Amy Kallissa
REFRESH-INTERVAL;VALUE=DURATION:PT1H
X-Robots-Tag:noindex
X-PUBLISHED-TTL:PT1H
BEGIN:VTIMEZONE
TZID:Australia/Melbourne
BEGIN:STANDARD
TZOFFSETFROM:+1100
TZOFFSETTO:+1000
TZNAME:AEST
DTSTART:20250405T160000
END:STANDARD
BEGIN:DAYLIGHT
TZOFFSETFROM:+1000
TZOFFSETTO:+1100
TZNAME:AEDT
DTSTART:20251004T160000
END:DAYLIGHT
BEGIN:STANDARD
TZOFFSETFROM:+1100
TZOFFSETTO:+1000
TZNAME:AEST
DTSTART:20260404T160000
END:STANDARD
BEGIN:DAYLIGHT
TZOFFSETFROM:+1000
TZOFFSETTO:+1100
TZNAME:AEDT
DTSTART:20261003T160000
END:DAYLIGHT
BEGIN:STANDARD
TZOFFSETFROM:+1100
TZOFFSETTO:+1000
TZNAME:AEST
DTSTART:20270403T160000
END:STANDARD
BEGIN:DAYLIGHT
TZOFFSETFROM:+1000
TZOFFSETTO:+1100
TZNAME:AEDT
DTSTART:20271002T160000
END:DAYLIGHT
END:VTIMEZONE
BEGIN:VEVENT
DTSTART;TZID=Australia/Melbourne:20260124T100000
DTEND;TZID=Australia/Melbourne:20260124T150000
DTSTAMP:20260423T183254
CREATED:20251221T061928Z
LAST-MODIFIED:20251221T071110Z
UID:23145-1769248800-1769266800@amykallissa.com
SUMMARY:Open Studio
DESCRIPTION:Come and shop for threads\, fabrics\, patterns\, kits & more\, and catch up with Amy to see what’s new and what’s in the works!
URL:https://amykallissa.com/workshops/open-studio-jan-24/
LOCATION:Amy Kallissa Studio\, 345 Main South Road\, Drouin South\, Victoria\, 3818\, Australia
CATEGORIES:Open Studio
ATTACH;FMTTYPE=image/jpeg:https://amykallissa.com/wp-content/uploads/2023/06/ShopPhoto_2_sq.jpg
END:VEVENT
END:VCALENDAR